<?xml version="1.0" encoding="UTF-8" standalone="no"?>
<metadata xml:lang="en">
<Esri>
<CreaDate>20190909</CreaDate>
<CreaTime>22085900</CreaTime>
<ArcGISFormat>1.0</ArcGISFormat>
<ArcGISstyle>FGDC CSDGM Metadata</ArcGISstyle>
<SyncOnce>FALSE</SyncOnce>
<DataProperties>
<itemProps>
<itemName Sync="TRUE">Delta_DEM_BareEarth_WebMerc</itemName>
<nativeExtBox>
<westBL Sync="TRUE">-10201834.529500</westBL>
<eastBL Sync="TRUE">-9803660.691552</eastBL>
<southBL Sync="TRUE">3525905.419043</southBL>
<northBL Sync="TRUE">4174784.159200</northBL>
<exTypeCode Sync="TRUE">1</exTypeCode>
</nativeExtBox>
</itemProps>
<coordRef>
<type Sync="TRUE">Projected</type>
<geogcsn Sync="TRUE">GCS_WGS_1984</geogcsn>
<csUnits Sync="TRUE">Linear Unit: Meter (1.000000)</csUnits>
<projcsn Sync="TRUE">WGS_1984_Web_Mercator_Auxiliary_Sphere</projcsn>
<peXml Sync="TRUE">&lt;ProjectedCoordinateSystem xsi:type='typens:ProjectedCoordinateSystem' xmlns:xsi='http://www.w3.org/2001/XMLSchema-instance' xmlns:xs='http://www.w3.org/2001/XMLSchema' xmlns:typens='http://www.esri.com/schemas/ArcGIS/10.6'&gt;&lt;WKT&gt;PROJCS[&amp;quot;WGS_1984_Web_Mercator_Auxiliary_Sphere&amp;quot;,GEOGCS[&amp;quot;GCS_WGS_1984&amp;quot;,DATUM[&amp;quot;D_WGS_1984&amp;quot;,SPHEROID[&amp;quot;WGS_1984&amp;quot;,6378137.0,298.257223563]],PRIMEM[&amp;quot;Greenwich&amp;quot;,0.0],UNIT[&amp;quot;Degree&amp;quot;,0.0174532925199433]],PROJECTION[&amp;quot;Mercator_Auxiliary_Sphere&amp;quot;],PARAMETER[&amp;quot;False_Easting&amp;quot;,0.0],PARAMETER[&amp;quot;False_Northing&amp;quot;,0.0],PARAMETER[&amp;quot;Central_Meridian&amp;quot;,0.0],PARAMETER[&amp;quot;Standard_Parallel_1&amp;quot;,0.0],PARAMETER[&amp;quot;Auxiliary_Sphere_Type&amp;quot;,0.0],UNIT[&amp;quot;Meter&amp;quot;,1.0],AUTHORITY[&amp;quot;EPSG&amp;quot;,3857]]&lt;/WKT&gt;&lt;XOrigin&gt;-20037700&lt;/XOrigin&gt;&lt;YOrigin&gt;-30241100&lt;/YOrigin&gt;&lt;XYScale&gt;148923141.92838538&lt;/XYScale&gt;&lt;ZOrigin&gt;-100000&lt;/ZOrigin&gt;&lt;ZScale&gt;10000&lt;/ZScale&gt;&lt;MOrigin&gt;-100000&lt;/MOrigin&gt;&lt;MScale&gt;10000&lt;/MScale&gt;&lt;XYTolerance&gt;0.001&lt;/XYTolerance&gt;&lt;ZTolerance&gt;0.001&lt;/ZTolerance&gt;&lt;MTolerance&gt;0.001&lt;/MTolerance&gt;&lt;HighPrecision&gt;true&lt;/HighPrecision&gt;&lt;WKID&gt;102100&lt;/WKID&gt;&lt;LatestWKID&gt;3857&lt;/LatestWKID&gt;&lt;/ProjectedCoordinateSystem&gt;</peXml>
</coordRef>
<RasterProperties>
<General>
<PixelDepth Sync="TRUE">32</PixelDepth>
<HasColormap Sync="TRUE">FALSE</HasColormap>
<CompressionType Sync="TRUE">None</CompressionType>
<NumBands Sync="TRUE">1</NumBands>
<Format Sync="TRUE">AMD</Format>
<HasPyramids Sync="TRUE">TRUE</HasPyramids>
<SourceType Sync="TRUE">continuous</SourceType>
<PixelType Sync="TRUE">floating point</PixelType>
<NoDataValue Sync="TRUE">
</NoDataValue>
</General>
<Properties>
<MaxImageHeight Sync="TRUE">4100</MaxImageHeight>
<MaxImageWidth Sync="TRUE">15000</MaxImageWidth>
<MaxRecordCount Sync="TRUE">1000</MaxRecordCount>
<MaxDownloadImageCount Sync="TRUE">20</MaxDownloadImageCount>
<MaxDownloadSizeLimit Sync="TRUE">2048</MaxDownloadSizeLimit>
<MaxMosaicImageCount Sync="TRUE">20</MaxMosaicImageCount>
<DefaultCompressionQuality Sync="TRUE">75</DefaultCompressionQuality>
<DefaultCompressionTolerance Sync="TRUE">0.01</DefaultCompressionTolerance>
<BlendWidth Sync="TRUE">10</BlendWidth>
<ViewpointSpacingX Sync="TRUE">600</ViewpointSpacingX>
<ViewpointSpacingY Sync="TRUE">300</ViewpointSpacingY>
<AllowedItemMetadata Sync="TRUE">Basic</AllowedItemMetadata>
<DefaultResamplingMethod Sync="TRUE">1</DefaultResamplingMethod>
<AllowedMosaicMethods Sync="TRUE">NorthWest,Center,LockRaster,ByAttribute,Nadir,Viewpoint,Seamline,None</AllowedMosaicMethods>
<AllowedCompressions Sync="TRUE">None,JPEG,LZ77,LERC</AllowedCompressions>
<AllowedMensurationCapabilities Sync="TRUE">None</AllowedMensurationCapabilities>
<AvailableMensurationCapabilities Sync="TRUE">None,Basic,Base-Top Height,Top-Top Shadow Height,Base-Top Shadow Height,3D</AvailableMensurationCapabilities>
<ClipToBoundary Sync="TRUE">0</ClipToBoundary>
<FootprintMayContainNoData Sync="TRUE">-1</FootprintMayContainNoData>
<CellSizeTolerance Sync="TRUE">0.8</CellSizeTolerance>
<MinimumPixelContribution Sync="TRUE">1</MinimumPixelContribution>
<AvailableMosaicMethods Sync="TRUE">NorthWest,Center,LockRaster,ByAttribute,Nadir,Viewpoint,Seamline,None</AvailableMosaicMethods>
<AvailableCompressionMethods Sync="TRUE">None,JPEG,LZ77,LERC</AvailableCompressionMethods>
<AvailableItemMetadataLevels Sync="TRUE">None,Basic,Full</AvailableItemMetadataLevels>
<BandDefinitionKeyword Sync="TRUE">NONE</BandDefinitionKeyword>
<AllowedFields Sync="TRUE">Name,MinPS,MaxPS,LowPS,HighPS,Tag,GroupName,ProductName,CenterX,CenterY,ZOrder,Shape_Length,Shape_Area,ProjectName,OriginalElevationUnit</AllowedFields>
<MaxCellSize Sync="TRUE">166649.733299467</MaxCellSize>
<LowCellSize Sync="TRUE">0.304800609601219</LowCellSize>
<HighCellSize Sync="TRUE">3332.99466598933</HighCellSize>
<TimeStamp.RemoveItems Sync="TRUE">43636.7298476505</TimeStamp.RemoveItems>
<TimeStamp.UpdateExtent Sync="TRUE">43645.8267690394</TimeStamp.UpdateExtent>
<ApplyColorCorrection Sync="TRUE">0</ApplyColorCorrection>
</Properties>
<Functions Sync="TRUE">
<Function Description="Performs on-the-fly mosaic on a raster catalog." Name="Mosaic Function">
</Function>
</Functions>
</RasterProperties>
</DataProperties>
<SyncDate>20190705</SyncDate>
<SyncTime>10213200</SyncTime>
<ModDate>20190705</ModDate>
<ModTime>10213200</ModTime>
<scaleRange>
<minScale>625000</minScale>
<maxScale>5000</maxScale>
</scaleRange>
</Esri>
<mdChar>
<CharSetCd value="004">
</CharSetCd>
</mdChar>
<mdHrLv>
<ScopeCd value="005">
</ScopeCd>
</mdHrLv>
<mdContact>
<rpIndName>Brad Segrest</rpIndName>
<rpOrgName>Mississippi Department of Environmental Quality</rpOrgName>
<rpPosName>Geographic Information Systems Manager</rpPosName>
<role>
<RoleCd value="011">
</RoleCd>
</role>
<rpCntInfo>
<cntAddress addressType="physical">
<delPoint>515 E Amite St</delPoint>
<city>Jackson</city>
<adminArea>MS</adminArea>
<postCode>39201</postCode>
<eMailAdd>bsegrest@mdeq.ms.gov</eMailAdd>
<country>US</country>
</cntAddress>
<cntPhone>
<voiceNum>601-961-5657</voiceNum>
</cntPhone>
</rpCntInfo>
<displayName>Brad Segrest</displayName>
</mdContact>
<dataIdInfo>
<idPurp>This dataset was created by MDEQ to provide consistnently formatted elevation accross the State. This mosaic encompasses 15 different Lidar projects and the...</idPurp>
<idAbs>This dataset is a Mosaic of Lidar Projects spanning 10 years in Mississippi. Individual Project Metadata can be found at the File Geodatabase level of the projects in the SourceTiles folder. The Web Mercator Coordinate system was chosen for this Mosaic to maximze its usability in web mapping. The base rasters retained their original Coordinate system, and I have not had any trouble reprojecting the data. The Statewide Mosaic reports all elevations in US Feet. Orignial elevations were mixed between Meters and Feet. I insterted a function for unit conversion on all reasters originally reporting elevation in Meters. This Math only exists in the Mosaic, and will not be the same if you load an individual raster from the SourceTiles folder.</idAbs>
<idCredit>Brad Segrest, MDEQ, MARIS, NRCS, NOAA, USACE, Steve Walker MARIS, Barbara Yassin MDEQ.</idCredit>
<idCitation>
<resAltTitle>Mississippi Lidar Collectoin 2019</resAltTitle>
<date>
<createDate>2019-07-01T00:00:00</createDate>
<pubDate>2019-07-01T00:00:00</pubDate>
</date>
<citRespParty>
<rpIndName>Brad Segrest</rpIndName>
<rpOrgName>Mississippi Department of Environmental Quality</rpOrgName>
<rpPosName>Geographic Information Systems Manager</rpPosName>
<role>
<RoleCd value="011">
</RoleCd>
</role>
<rpCntInfo>
<cntAddress addressType="physical">
<delPoint>515 E Amite St</delPoint>
<city>Jackson</city>
<adminArea>MS</adminArea>
<postCode>39201</postCode>
<eMailAdd>bsegrest@mdeq.ms.gov</eMailAdd>
<country>US</country>
</cntAddress>
<cntPhone>
<voiceNum>601-961-5657</voiceNum>
</cntPhone>
</rpCntInfo>
</citRespParty>
<citRespParty>
<rpIndName>Brad Segrest</rpIndName>
<rpOrgName>Mississippi Department of Environmental Quality</rpOrgName>
<rpPosName>Geographic Information Systems Manager</rpPosName>
<role>
<RoleCd value="006">
</RoleCd>
</role>
<rpCntInfo>
<cntAddress addressType="physical">
<delPoint>515 E Amite St</delPoint>
<city>Jackson</city>
<adminArea>MS</adminArea>
<postCode>39201</postCode>
<eMailAdd>bsegrest@mdeq.ms.gov</eMailAdd>
<country>US</country>
</cntAddress>
<cntPhone>
<voiceNum>601-961-5657</voiceNum>
</cntPhone>
</rpCntInfo>
<displayName>Brad Segrest</displayName>
</citRespParty>
<resTitle Sync="TRUE">Delta_DEM_BareEarth_WebMerc</resTitle>
<presForm>
<PresFormCd Sync="TRUE" value="005">
</PresFormCd>
</presForm>
</idCitation>
<searchKeys>
<keyword>elevation</keyword>
<keyword>lidar</keyword>
<keyword>mosaic</keyword>
<keyword>Mississippi</keyword>
</searchKeys>
<dataExt>
<geoEle>
<GeoBndBox esriExtentType="search">
<exTypeCode>0</exTypeCode>
<westBL Sync="TRUE">-91.644639</westBL>
<eastBL Sync="TRUE">-88.067782</eastBL>
<northBL Sync="TRUE">35.080191</northBL>
<southBL Sync="TRUE">30.173766</southBL>
</GeoBndBox>
</geoEle>
<exDesc>Lidar Project Collection dates are in the Metadata for the porject FGDB.</exDesc>
<tempEle>
<TempExtent>
<exTemp>
<TM_Period>
<tmBegin>2009-08-01T00:00:00</tmBegin>
<tmEnd>2019-06-30T00:00:00</tmEnd>
</TM_Period>
</exTemp>
</TempExtent>
</tempEle>
</dataExt>
<dataChar>
<CharSetCd value="004">
</CharSetCd>
</dataChar>
<idStatus>
<ProgCd value="004">
</ProgCd>
</idStatus>
<idPoC>
<rpIndName>Brad Segrest</rpIndName>
<rpOrgName>Mississippi Department of Environmental Quality</rpOrgName>
<rpPosName>Geographic Information Systems Manager</rpPosName>
<role>
<RoleCd value="007">
</RoleCd>
</role>
<rpCntInfo>
<cntAddress addressType="physical">
<delPoint>515 E Amite St</delPoint>
<city>Jackson </city>
<adminArea>MS</adminArea>
<postCode>39201</postCode>
<eMailAdd>bsegrest@mdeq.ms.gov</eMailAdd>
<country>US</country>
</cntAddress>
<cntPhone>
<voiceNum>601-961-5657</voiceNum>
</cntPhone>
<cntHours>Weekdays 0900-1700</cntHours>
</rpCntInfo>
</idPoC>
<resMaint>
<maintFreq>
<MaintFreqCd value="009">
</MaintFreqCd>
</maintFreq>
</resMaint>
<envirDesc Sync="TRUE"> Version 6.2 (Build 9200) ; Esri ArcGIS 10.6.1.9270</envirDesc>
<dataLang>
<languageCode Sync="TRUE" value="eng">
</languageCode>
<countryCode Sync="TRUE" value="USA">
</countryCode>
</dataLang>
<spatRpType>
<SpatRepTypCd Sync="TRUE" value="002">
</SpatRepTypCd>
</spatRpType>
<resConst>
<Consts>
<useLimit>none</useLimit>
</Consts>
</resConst>
</dataIdInfo>
<mdMaint>
<maintFreq>
<MaintFreqCd value="009">
</MaintFreqCd>
</maintFreq>
</mdMaint>
<dqInfo>
<dataLineage>
<statement>Original Rasters per project were loaded into File Geodatabases. If the File Names started with a number a prefix was added. Most often that prefix was UTM because the rasters were projected as UTM and the name corresponded to the grid. Once the tiles were loaded into FGDB a Mosaic was made with Web Mercator Projection. All rasters were loaded into the Mosaic. Once all the reasters were loaded Overviews were built. The MS_10Meter DEM was added to fill in holes in between project datasets. As new lidar projects are added older data will be removed. </statement>
<prcStep>
<stepDesc>Original Rasters per project were loaded into File Geodatabases. If the File Names started with a number a prefix was added. Most often that prefix was UTM because the rasters were projected as UTM and the name corresponded to the grid.</stepDesc>
<stepRat>Rasters were loaded into project FGDB for management ease.</stepRat>
<stepDateTm>2019-06-01T00:00:00</stepDateTm>
</prcStep>
<prcStep>
<stepDesc>Mosaic was made with Web Mercator Projection. All rasters were loaded into the Mosaic. Once all the reasters were loaded Overviews were built. The MS_10Meter DEM was added to fill in holes in between project datasets. As new lidar projects are added older data will be removed. </stepDesc>
<stepRat>Web Mercator was chosen to maximize usefulness accross web mapping platforms. </stepRat>
<stepDateTm>2019-06-01T00:00:00</stepDateTm>
</prcStep>
</dataLineage>
<report dimension="vertical" type="DQConcConsis">
<measDesc>Elevations were reported in a mix of Meters and Feet. All footprints reported in Meters had the function Unit Conversion (Meters to Feet) added. Once the overviews were built the consistancy was checked. The Yazoo Delta Phases I and II allong with The Coastal Project drew at a smaller scale than the rest of the data sets. The maxps field was recclucluated for all tiles in these projects to match the value 1.524003 that the rest of the state had. This made the Overview seamless. </measDesc>
<measDateTm>2019-06-28T00:00:00</measDateTm>
</report>
<report dimension="horizontal" type="DQCompOm">
<measDesc>Several areas were added using 10mDEM data which. This happened in the Tupelo Project AOI. </measDesc>
<measDateTm>2019-07-01T00:00:00</measDateTm>
<measName>Elevation</measName>
</report>
</dqInfo>
<spatRepInfo>
<Georect>
<axisDimension type="002">
<dimSize Sync="TRUE">1306342</dimSize>
<dimResol>
<value Sync="TRUE" uom="m">0.304801</value>
</dimResol>
</axisDimension>
<axisDimension type="001">
<dimSize Sync="TRUE">2128863</dimSize>
<dimResol>
<value Sync="TRUE" uom="m">0.304801</value>
</dimResol>
</axisDimension>
<cellGeo>
<CellGeoCd Sync="TRUE" value="002">
</CellGeoCd>
</cellGeo>
<numDims Sync="TRUE">2</numDims>
<tranParaAv Sync="TRUE">1</tranParaAv>
<chkPtAv Sync="TRUE">0</chkPtAv>
<cornerPts>
<pos Sync="TRUE">-10201834.529500 3525905.419043</pos>
</cornerPts>
<cornerPts>
<pos Sync="TRUE">-10201834.529500 4174784.159200</pos>
</cornerPts>
<cornerPts>
<pos Sync="TRUE">-9803660.691552 4174784.159200</pos>
</cornerPts>
<cornerPts>
<pos Sync="TRUE">-9803660.691552 3525905.419043</pos>
</cornerPts>
<centerPt>
<pos Sync="TRUE">-10002747.610526 3850344.789121</pos>
</centerPt>
<ptInPixel>
<PixOrientCd Sync="TRUE" value="001">
</PixOrientCd>
</ptInPixel>
</Georect>
</spatRepInfo>
<contInfo>
<ImgDesc>
<covDim>
<Band>
<valUnit>
<UOM type="length">
<unitSymbol>[ft_us]</unitSymbol>
</UOM>
</valUnit>
<seqID>
<aName>Elevation</aName>
<attributeType>
<aName>feet</aName>
</attributeType>
</seqID>
<dimDescrp Sync="TRUE">Band_1</dimDescrp>
<maxVal Sync="TRUE">805.319458</maxVal>
<minVal Sync="TRUE">-9.827932</minVal>
<bitsPerVal Sync="TRUE">32</bitsPerVal>
</Band>
</covDim>
<attDesc>Elevation Displayed in Feet</attDesc>
<trianInd>False</trianInd>
<radCalDatAv>False</radCalDatAv>
<camCalInAv>False</camCalInAv>
<filmDistInAv>False</filmDistInAv>
<lensDistInAv>False</lensDistInAv>
<contentTyp>
<ContentTypCd Sync="TRUE" value="001">
</ContentTypCd>
</contentTyp>
</ImgDesc>
</contInfo>
<mdLang>
<languageCode Sync="TRUE" value="eng">
</languageCode>
<countryCode Sync="TRUE" value="USA">
</countryCode>
</mdLang>
<refSysInfo>
<RefSystem>
<refSysID>
<identCode Sync="TRUE" code="3857">
</identCode>
<idCodeSpace Sync="TRUE">EPSG</idCodeSpace>
<idVersion Sync="TRUE">8.8(9.3.1.2)</idVersion>
</refSysID>
</RefSystem>
</refSysInfo>
<mdDateSt Sync="TRUE">20190705</mdDateSt>
</metadata>
