View In:
ArcGIS JavaScript
ArcGIS Online Map Viewer
ArcGIS Earth
Service Description: This dataset is a Mosaic of Lidar Projects spanning 10 years in Mississippi. Individual Project Metadata can be found at the File Geodatabase level of the projects in the SourceTiles folder. The Web Mercator Coordinate system was chosen for this Mosaic to maximze its usability in web mapping. The base rasters retained their original Coordinate system, and I have not had any trouble reprojecting the data. The Statewide Mosaic reports all elevations in US Feet. Orignial elevations were mixed between Meters and Feet. I insterted a function for unit conversion on all reasters originally reporting elevation in Meters. This Math only exists in the Mosaic, and will not be the same if you load an individual raster from the SourceTiles folder.
Name: Elevation/MS_Statewide_LIDAR_Hillshade_2019
Description: This dataset is a Mosaic of Lidar Projects spanning 10 years in Mississippi. Individual Project Metadata can be found at the File Geodatabase level of the projects in the SourceTiles folder. The Web Mercator Coordinate system was chosen for this Mosaic to maximze its usability in web mapping. The base rasters retained their original Coordinate system, and I have not had any trouble reprojecting the data. The Statewide Mosaic reports all elevations in US Feet. Orignial elevations were mixed between Meters and Feet. I insterted a function for unit conversion on all reasters originally reporting elevation in Meters. This Math only exists in the Mosaic, and will not be the same if you load an individual raster from the SourceTiles folder.
Single Fused Map Cache: false
Extent:
XMin: -1.0202968793E7
YMin: 3525905.5331574325
XMax: -9807003.845070103
YMax: 4163326.818400003
Spatial Reference: 102100
(3857)
LatestVCSWkid(0)
Initial Extent:
XMin: -1.0202968793E7
YMin: 3525905.5331574325
XMax: -9807003.845070103
YMax: 4163326.818400003
Spatial Reference: 102100
(3857)
LatestVCSWkid(0)
Full Extent:
XMin: -1.0202968793E7
YMin: 3525905.5331574325
XMax: -9807003.845070103
YMax: 4163326.818400003
Spatial Reference: 102100
(3857)
LatestVCSWkid(0)
Pixel Size X: 0.30480060960121963
Pixel Size Y: 0.30480060960121924
Band Count: 1
Pixel Type: U8
RasterFunction Infos: {"rasterFunctionInfos": [{
"name": "None",
"description": "A No-Op Function.",
"help": ""
}]}
Mensuration Capabilities: None
Inspection Capabilities:
Has Histograms: true
Has Colormap: false
Has Multi Dimensions : false
Rendering Rule:
Min Scale: 0
Max Scale: 0
Resampling: false
Copyright Text: Brad Segrest, MDEQ, MARIS, NRCS, NOAA, USACE, Steve Walker MARIS, Barbara Yassin MDEQ.
Service Data Type: esriImageServiceDataTypeProcessed
Min Values: -9.827932357788086
Max Values: 805.3194580078125
Mean Values: 278.9236237174351
Standard Deviation Values: 135.62071927525466
Object ID Field: OBJECTID
Fields:
-
OBJECTID
(
type: esriFieldTypeOID, alias: OBJECTID
)
-
Shape
(
type: esriFieldTypeGeometry, alias: Shape
)
-
Name
(
type: esriFieldTypeString, alias: Name, length: 200
)
-
MinPS
(
type: esriFieldTypeDouble, alias: MinPS
)
-
MaxPS
(
type: esriFieldTypeDouble, alias: MaxPS
)
-
LowPS
(
type: esriFieldTypeDouble, alias: LowPS
)
-
HighPS
(
type: esriFieldTypeDouble, alias: HighPS
)
-
Category
(
type: esriFieldTypeInteger, alias: Category
, Coded Values:
[0: Unknown]
, [1: Primary]
, [2: Overview]
, ...6 more...
)
-
Tag
(
type: esriFieldTypeString, alias: Tag, length: 100
)
-
GroupName
(
type: esriFieldTypeString, alias: GroupName, length: 100
)
-
ProductName
(
type: esriFieldTypeString, alias: ProductName, length: 100
)
-
CenterX
(
type: esriFieldTypeDouble, alias: CenterX
)
-
CenterY
(
type: esriFieldTypeDouble, alias: CenterY
)
-
ZOrder
(
type: esriFieldTypeInteger, alias: ZOrder
)
-
ProjectName
(
type: esriFieldTypeString, alias: ProjectName, length: 100
)
-
OriginalElevationUnit
(
type: esriFieldTypeString, alias: OriginalElevationUnit, length: 5
)
-
Shape_Length
(
type: esriFieldTypeDouble, alias: Shape_Length
)
-
Shape_Area
(
type: esriFieldTypeDouble, alias: Shape_Area
)
Default Mosaic Method: Northwest
Allowed Mosaic Methods: NorthWest,Center,LockRaster,ByAttribute,Nadir,Viewpoint,Seamline,None
SortField:
SortValue: null
Mosaic Operator: First
Default Compression Quality: 75
Default Resampling Method: Bilinear
Max Record Count: 1000
Max Image Height: 4100
Max Image Width: 15000
Max Download Image Count: 20
Max Mosaic Image Count: 20
Allow Raster Function: true
Allow Copy: true
Allow Analysis: true
Allow Compute TiePoints: false
Supports Statistics: true
Supports Advanced Queries: true
Use StandardizedQueries: true
Raster Type Infos:
Name: Raster Dataset
Description: Supports all ArcGIS Raster Datasets
Help:
Has Raster Attribute Table: false
Edit Fields Info: null
Ownership Based AccessControl For Rasters: null
Child Resources:
Info
Histograms
Statistics
Key Properties
Legend
Raster Function Infos
Supported Operations:
Export Image
Query
Identify
Compute Histograms
Compute Statistics Histograms
Get Samples
Compute Class Statistics
Query GPS Info
Find Images
Image to Map
Map to Image
Measure from Image
Image to Map Multiray
Query Boundary
Compute Pixel Location
Compute Angles
Validate
Project