View In:
ArcGIS JavaScript
ArcGIS Online Map Viewer
ArcGIS Earth
Service Description: The dataset is a generalized and nationally consistent land cover data layer for the United States based primarily on a decision-tree classification of circa 2019 Landsat satellite data and can be used for a number of purposes in a GIS.
Name: Raster/MS_LanduseLandcover_2019
Description: The dataset is a generalized and nationally consistent land cover data layer for the United States based primarily on a decision-tree classification of circa 2019 Landsat satellite data and can be used for a number of purposes in a GIS.
Single Fused Map Cache: false
Extent:
XMin: 46644.37126904866
YMin: 3329061.1081048716
XMax: 417474.37126904866
YMax: 3900801.1081048716
Spatial Reference: 26916
(26916)
LatestVCSWkid(0)
Initial Extent:
XMin: 46644.37126904866
YMin: 3329061.1081048716
XMax: 417474.37126904866
YMax: 3900801.1081048716
Spatial Reference: 26916
(26916)
LatestVCSWkid(0)
Full Extent:
XMin: 46644.37126904866
YMin: 3329061.1081048716
XMax: 417474.37126904866
YMax: 3900801.1081048716
Spatial Reference: 26916
(26916)
LatestVCSWkid(0)
Pixel Size X: 30.0
Pixel Size Y: 30.0
Band Count: 1
Pixel Type: S8
RasterFunction Infos: {"rasterFunctionInfos": [{
"name": "None",
"description": "",
"help": ""
}]}
Mensuration Capabilities: Basic
Inspection Capabilities:
Has Histograms: false
Has Colormap: false
Has Multi Dimensions : false
Rendering Rule:
Min Scale: 0
Max Scale: 0
Resampling: false
Copyright Text: USDA, MARIS
Service Data Type: esriImageServiceDataTypeGeneric
Min Values: 0
Max Values: 95
Mean Values: 58.654249684306
Standard Deviation Values: 24.513419689176
Object ID Field:
Fields:
None
Default Mosaic Method: Center
Allowed Mosaic Methods:
SortField:
SortValue: null
Mosaic Operator: First
Default Compression Quality: 75
Default Resampling Method: Bilinear
Max Record Count: null
Max Image Height: 4100
Max Image Width: 15000
Max Download Image Count: null
Max Mosaic Image Count: null
Allow Raster Function: true
Allow Copy: true
Allow Analysis: true
Allow Compute TiePoints: false
Supports Statistics: false
Supports Advanced Queries: false
Use StandardizedQueries: true
Raster Type Infos:
Name: Raster Dataset
Description: Supports all ArcGIS Raster Datasets
Help:
Has Raster Attribute Table: true
Edit Fields Info: null
Ownership Based AccessControl For Rasters: null
Child Resources:
Info
Raster Attribute Table
Statistics
Key Properties
Legend
Raster Function Infos
Supported Operations:
Export Image
Identify
Measure
Compute Histograms
Compute Statistics Histograms
Get Samples
Compute Class Statistics
Query Boundary
Compute Pixel Location
Compute Angles
Validate
Project